Package: VariantAnnotation Version: 1.46.0 Command: F:\biocbuild\bbs-3.17-bioc\R\bin\R.exe CMD check --no-multiarch --install=check:VariantAnnotation.install-out.txt --library=F:\biocbuild\bbs-3.17-bioc\R\library --no-vignettes --timings VariantAnnotation_1.46.0.tar.gz StartedAt: 2023-10-16 07:56:49 -0400 (Mon, 16 Oct 2023) EndedAt: 2023-10-16 08:09:10 -0400 (Mon, 16 Oct 2023) EllapsedTime: 741.5 seconds RetCode: 0 Status: WARNINGS CheckDir: VariantAnnotation.Rcheck Warnings: 1