Package: VariantAnnotation Version: 1.46.0 Command: chmod a+r VariantAnnotation -R && F:\biocbuild\bbs-3.17-bioc\R\bin\R.exe CMD build --keep-empty-dirs --no-resave-data VariantAnnotation StartedAt: 2023-10-15 23:00:43 -0400 (Sun, 15 Oct 2023) EndedAt: 2023-10-15 23:06:23 -0400 (Sun, 15 Oct 2023) EllapsedTime: 340.0 seconds RetCode: 0 Status: OK PackageFile: VariantAnnotation_1.46.0.tar.gz PackageFileSize: 1.682 MiB