Package: VariantAnnotation Version: 1.46.0 Command: rm -rf VariantAnnotation.buildbin-libdir && mkdir VariantAnnotation.buildbin-libdir && F:\biocbuild\bbs-3.17-bioc\R\bin\R.exe CMD INSTALL --build --library=VariantAnnotation.buildbin-libdir VariantAnnotation_1.46.0.tar.gz StartedAt: 2023-10-16 09:41:49 -0400 (Mon, 16 Oct 2023) EndedAt: 2023-10-16 09:43:42 -0400 (Mon, 16 Oct 2023) EllapsedTime: 112.5 seconds RetCode: 0 Status: OK PackageFile: VariantAnnotation_1.46.0.zip PackageFileSize: 7.569 MiB