Package: VariantAnnotation Version: 1.46.0 Command: /home/biocbuild/bbs-3.17-bioc/R/bin/R CMD INSTALL VariantAnnotation StartedAt: 2023-10-15 15:22:16 -0400 (Sun, 15 Oct 2023) EndedAt: 2023-10-15 15:23:27 -0400 (Sun, 15 Oct 2023) EllapsedTime: 71.4 seconds RetCode: 0 Status: OK