Package: VariantAnnotation Version: 1.46.0 Command: /home/biocbuild/bbs-3.17-bioc/R/bin/R CMD check --install=check:VariantAnnotation.install-out.txt --library=/home/biocbuild/bbs-3.17-bioc/R/site-library --timings VariantAnnotation_1.46.0.tar.gz StartedAt: 2023-10-16 02:00:42 -0400 (Mon, 16 Oct 2023) EndedAt: 2023-10-16 02:11:54 -0400 (Mon, 16 Oct 2023) EllapsedTime: 672.1 seconds RetCode: 0 Status: WARNINGS CheckDir: VariantAnnotation.Rcheck Warnings: 2