Package: VariantAnnotation Version: 1.46.0 Command: /home/biocbuild/bbs-3.17-bioc/R/bin/R CMD build --keep-empty-dirs --no-resave-data VariantAnnotation StartedAt: 2023-10-15 18:54:00 -0400 (Sun, 15 Oct 2023) EndedAt: 2023-10-15 18:56:39 -0400 (Sun, 15 Oct 2023) EllapsedTime: 158.8 seconds RetCode: 0 Status: OK PackageFile: VariantAnnotation_1.46.0.tar.gz PackageFileSize: 1.679 MiB