Package: VarCon Version: 1.8.0 Command: rm -rf VarCon.buildbin-libdir && mkdir VarCon.buildbin-libdir && F:\biocbuild\bbs-3.17-bioc\R\bin\R.exe CMD INSTALL --build --library=VarCon.buildbin-libdir VarCon_1.8.0.tar.gz StartedAt: 2023-10-16 09:41:46 -0400 (Mon, 16 Oct 2023) EndedAt: 2023-10-16 09:42:39 -0400 (Mon, 16 Oct 2023) EllapsedTime: 53.0 seconds RetCode: 0 Status: OK PackageFile: VarCon_1.8.0.zip PackageFileSize: 1.997 MiB