Package: VarCon Version: 1.8.0 Command: /home/biocbuild/bbs-3.17-bioc/R/bin/R CMD build --keep-empty-dirs --no-resave-data VarCon StartedAt: 2023-10-15 18:53:50 -0400 (Sun, 15 Oct 2023) EndedAt: 2023-10-15 18:54:38 -0400 (Sun, 15 Oct 2023) EllapsedTime: 48.5 seconds RetCode: 0 Status: OK PackageFile: VarCon_1.8.0.tar.gz PackageFileSize: 1.889 MiB