Package: VarCon Version: 1.8.0 Command: rm -rf VarCon.buildbin-libdir && mkdir VarCon.buildbin-libdir && /Users/biocbuild/BBS/utils/build-universal.sh VarCon_1.8.0.tar.gz /Library/Frameworks/R.framework/Resources/bin/R VarCon.buildbin-libdir StartedAt: 2023-10-16 10:24:03 -0400 (Mon, 16 Oct 2023) EndedAt: 2023-10-16 10:26:04 -0400 (Mon, 16 Oct 2023) EllapsedTime: 120.7 seconds RetCode: 0 Status: OK PackageFile: VarCon_1.8.0.tgz PackageFileSize: 2.015 MiB