Package: VanillaICE Version: 1.62.0 Command: F:\biocbuild\bbs-3.17-bioc\R\bin\R.exe CMD check --no-multiarch --install=check:VanillaICE.install-out.txt --library=F:\biocbuild\bbs-3.17-bioc\R\library --no-vignettes --timings VanillaICE_1.62.0.tar.gz StartedAt: 2023-10-16 07:56:05 -0400 (Mon, 16 Oct 2023) EndedAt: 2023-10-16 08:00:18 -0400 (Mon, 16 Oct 2023) EllapsedTime: 253.1 seconds RetCode: 0 Status: WARNINGS CheckDir: VanillaICE.Rcheck Warnings: 1