Package: VanillaICE Version: 1.62.0 Command: /home/biocbuild/bbs-3.17-bioc/R/bin/R CMD check --install=check:VanillaICE.install-out.txt --library=/home/biocbuild/bbs-3.17-bioc/R/site-library --timings VanillaICE_1.62.0.tar.gz StartedAt: 2023-10-16 02:00:14 -0400 (Mon, 16 Oct 2023) EndedAt: 2023-10-16 02:05:15 -0400 (Mon, 16 Oct 2023) EllapsedTime: 300.9 seconds RetCode: 0 Status: WARNINGS CheckDir: VanillaICE.Rcheck Warnings: 1