Package: VanillaICE Version: 1.62.0 Command: /home/biocbuild/bbs-3.17-bioc/R/bin/R CMD build --keep-empty-dirs --no-resave-data VanillaICE StartedAt: 2023-10-15 18:53:46 -0400 (Sun, 15 Oct 2023) EndedAt: 2023-10-15 18:54:44 -0400 (Sun, 15 Oct 2023) EllapsedTime: 57.7 seconds RetCode: 0 Status: OK PackageFile: VanillaICE_1.62.0.tar.gz PackageFileSize: 1.794 MiB