Package: VanillaICE Version: 1.62.0 Command: /Library/Frameworks/R.framework/Resources/bin/R CMD INSTALL VanillaICE StartedAt: 2023-10-15 15:34:40 -0400 (Sun, 15 Oct 2023) EndedAt: 2023-10-15 15:36:28 -0400 (Sun, 15 Oct 2023) EllapsedTime: 107.8 seconds RetCode: 0 Status: OK