Package: VanillaICE Version: 1.62.0 Command: /Library/Frameworks/R.framework/Resources/bin/R CMD build --keep-empty-dirs --no-resave-data VanillaICE StartedAt: 2023-10-15 22:02:44 -0400 (Sun, 15 Oct 2023) EndedAt: 2023-10-15 22:05:10 -0400 (Sun, 15 Oct 2023) EllapsedTime: 145.8 seconds RetCode: 0 Status: OK PackageFile: VanillaICE_1.62.0.tar.gz PackageFileSize: 2.071 MiB