Package: VaSP Version: 1.12.0 Command: F:\biocbuild\bbs-3.17-bioc\R\bin\R.exe CMD check --no-multiarch --install=check:VaSP.install-out.txt --library=F:\biocbuild\bbs-3.17-bioc\R\library --no-vignettes --timings VaSP_1.12.0.tar.gz StartedAt: 2023-10-16 07:58:50 -0400 (Mon, 16 Oct 2023) EndedAt: 2023-10-16 08:02:43 -0400 (Mon, 16 Oct 2023) EllapsedTime: 232.9 seconds RetCode: 0 Status: OK CheckDir: VaSP.Rcheck Warnings: 0