Package: VERSO Version: 1.10.0 Command: /Library/Frameworks/R.framework/Resources/bin/R CMD build --keep-empty-dirs --no-resave-data VERSO StartedAt: 2023-10-15 22:05:10 -0400 (Sun, 15 Oct 2023) EndedAt: 2023-10-15 22:05:28 -0400 (Sun, 15 Oct 2023) EllapsedTime: 17.7 seconds RetCode: 0 Status: OK PackageFile: VERSO_1.10.0.tar.gz PackageFileSize: 623.8 KiB