Package: VAExprs Version: 1.6.0 Command: F:\biocbuild\bbs-3.17-bioc\R\bin\R.exe CMD check --no-multiarch --install=check:VAExprs.install-out.txt --library=F:\biocbuild\bbs-3.17-bioc\R\library --no-vignettes --timings VAExprs_1.6.0.tar.gz StartedAt: 2023-10-16 07:55:53 -0400 (Mon, 16 Oct 2023) EndedAt: 2023-10-16 08:00:43 -0400 (Mon, 16 Oct 2023) EllapsedTime: 290.2 seconds RetCode: 0 Status: OK CheckDir: VAExprs.Rcheck Warnings: 0