Package: VAExprs Version: 1.6.0 Command: /Library/Frameworks/R.framework/Resources/bin/R CMD INSTALL VAExprs StartedAt: 2023-10-15 16:27:52 -0400 (Sun, 15 Oct 2023) EndedAt: 2023-10-15 16:29:27 -0400 (Sun, 15 Oct 2023) EllapsedTime: 94.7 seconds RetCode: 0 Status: OK