Package: VAExprs Version: 1.6.0 Command: /Library/Frameworks/R.framework/Resources/bin/R CMD check --install=check:VAExprs.install-out.txt --library=/Library/Frameworks/R.framework/Resources/library --no-vignettes --timings VAExprs_1.6.0.tar.gz StartedAt: 2023-10-16 08:24:52 -0400 (Mon, 16 Oct 2023) EndedAt: 2023-10-16 08:36:07 -0400 (Mon, 16 Oct 2023) EllapsedTime: 675.0 seconds RetCode: 0 Status: OK CheckDir: VAExprs.Rcheck Warnings: 0