Package: VAExprs Version: 1.6.0 Command: rm -rf VAExprs.buildbin-libdir && mkdir VAExprs.buildbin-libdir && /Users/biocbuild/BBS/utils/build-universal.sh VAExprs_1.6.0.tar.gz /Library/Frameworks/R.framework/Resources/bin/R VAExprs.buildbin-libdir StartedAt: 2023-10-16 10:24:02 -0400 (Mon, 16 Oct 2023) EndedAt: 2023-10-16 10:25:46 -0400 (Mon, 16 Oct 2023) EllapsedTime: 104.1 seconds RetCode: 0 Status: OK PackageFile: VAExprs_1.6.0.tgz PackageFileSize: 1.643 MiB