Package: UNDO Version: 1.42.0 Command: rm -rf UNDO.buildbin-libdir && mkdir UNDO.buildbin-libdir && F:\biocbuild\bbs-3.17-bioc\R\bin\R.exe CMD INSTALL --build --library=UNDO.buildbin-libdir UNDO_1.42.0.tar.gz StartedAt: 2023-10-16 09:41:32 -0400 (Mon, 16 Oct 2023) EndedAt: 2023-10-16 09:41:48 -0400 (Mon, 16 Oct 2023) EllapsedTime: 15.9 seconds RetCode: 0 Status: OK PackageFile: UNDO_1.42.0.zip PackageFileSize: 2.818 MiB