Package: UNDO Version: 1.42.0 Command: /Library/Frameworks/R.framework/Resources/bin/R CMD check --install=check:UNDO.install-out.txt --library=/Library/Frameworks/R.framework/Resources/library --no-vignettes --timings UNDO_1.42.0.tar.gz StartedAt: 2023-10-16 08:22:14 -0400 (Mon, 16 Oct 2023) EndedAt: 2023-10-16 08:23:32 -0400 (Mon, 16 Oct 2023) EllapsedTime: 77.7 seconds RetCode: 0 Status: OK CheckDir: UNDO.Rcheck Warnings: 0