Package: UNDO Version: 1.42.0 Command: /Library/Frameworks/R.framework/Resources/bin/R CMD build --keep-empty-dirs --no-resave-data UNDO StartedAt: 2023-10-15 22:02:06 -0400 (Sun, 15 Oct 2023) EndedAt: 2023-10-15 22:02:32 -0400 (Sun, 15 Oct 2023) EllapsedTime: 25.9 seconds RetCode: 0 Status: OK PackageFile: UNDO_1.42.0.tar.gz PackageFileSize: 2.854 MiB