Package: UMI4Cats Version: 1.10.0 Command: F:\biocbuild\bbs-3.17-bioc\R\bin\R.exe CMD INSTALL UMI4Cats StartedAt: 2023-10-15 17:01:16 -0400 (Sun, 15 Oct 2023) EndedAt: 2023-10-15 17:02:08 -0400 (Sun, 15 Oct 2023) EllapsedTime: 51.3 seconds RetCode: 0 Status: OK