Package: UMI4Cats Version: 1.10.0 Command: rm -rf UMI4Cats.buildbin-libdir && mkdir UMI4Cats.buildbin-libdir && F:\biocbuild\bbs-3.17-bioc\R\bin\R.exe CMD INSTALL --build --library=UMI4Cats.buildbin-libdir UMI4Cats_1.10.0.tar.gz StartedAt: 2023-10-16 09:41:29 -0400 (Mon, 16 Oct 2023) EndedAt: 2023-10-16 09:42:21 -0400 (Mon, 16 Oct 2023) EllapsedTime: 51.4 seconds RetCode: 0 Status: OK PackageFile: UMI4Cats_1.10.0.zip PackageFileSize: 2.958 MiB