Package: UMI4Cats Version: 1.10.0 Command: /home/biocbuild/bbs-3.17-bioc/R/bin/R CMD check --install=check:UMI4Cats.install-out.txt --library=/home/biocbuild/bbs-3.17-bioc/R/site-library --timings UMI4Cats_1.10.0.tar.gz StartedAt: 2023-10-16 01:58:43 -0400 (Mon, 16 Oct 2023) EndedAt: 2023-10-16 02:05:19 -0400 (Mon, 16 Oct 2023) EllapsedTime: 395.8 seconds RetCode: 0 Status: OK CheckDir: UMI4Cats.Rcheck Warnings: 0