Package: UMI4Cats Version: 1.10.0 Command: /Library/Frameworks/R.framework/Resources/bin/R CMD INSTALL UMI4Cats StartedAt: 2023-10-15 16:27:27 -0400 (Sun, 15 Oct 2023) EndedAt: 2023-10-15 16:29:31 -0400 (Sun, 15 Oct 2023) EllapsedTime: 124.1 seconds RetCode: 0 Status: OK