Package: UMI4Cats Version: 1.10.0 Command: /Library/Frameworks/R.framework/Resources/bin/R CMD check --install=check:UMI4Cats.install-out.txt --library=/Library/Frameworks/R.framework/Resources/library --no-vignettes --timings UMI4Cats_1.10.0.tar.gz StartedAt: 2023-10-16 08:21:59 -0400 (Mon, 16 Oct 2023) EndedAt: 2023-10-16 08:36:17 -0400 (Mon, 16 Oct 2023) EllapsedTime: 858.1 seconds RetCode: 0 Status: OK CheckDir: UMI4Cats.Rcheck Warnings: 0