Package: UMI4Cats Version: 1.10.0 Command: /Library/Frameworks/R.framework/Resources/bin/R CMD build --keep-empty-dirs --no-resave-data UMI4Cats StartedAt: 2023-10-15 22:01:56 -0400 (Sun, 15 Oct 2023) EndedAt: 2023-10-15 22:06:09 -0400 (Sun, 15 Oct 2023) EllapsedTime: 253.9 seconds RetCode: 0 Status: OK PackageFile: UMI4Cats_1.10.0.tar.gz PackageFileSize: 3.726 MiB