Package: UMI4Cats Version: 1.10.0 Command: rm -rf UMI4Cats.buildbin-libdir && mkdir UMI4Cats.buildbin-libdir && /Users/biocbuild/BBS/utils/build-universal.sh UMI4Cats_1.10.0.tar.gz /Library/Frameworks/R.framework/Resources/bin/R UMI4Cats.buildbin-libdir StartedAt: 2023-10-16 10:23:53 -0400 (Mon, 16 Oct 2023) EndedAt: 2023-10-16 10:26:05 -0400 (Mon, 16 Oct 2023) EllapsedTime: 132.5 seconds RetCode: 0 Status: OK PackageFile: UMI4Cats_1.10.0.tgz PackageFileSize: 3.272 MiB