Package: UCell Version: 2.4.0 Command: chmod a+r UCell -R && F:\biocbuild\bbs-3.17-bioc\R\bin\R.exe CMD build --keep-empty-dirs --no-resave-data UCell StartedAt: 2023-10-15 22:58:46 -0400 (Sun, 15 Oct 2023) EndedAt: 2023-10-15 23:05:08 -0400 (Sun, 15 Oct 2023) EllapsedTime: 382.0 seconds RetCode: 0 Status: OK PackageFile: UCell_2.4.0.tar.gz PackageFileSize: 2.549 MiB