Package: UCell Version: 2.4.0 Command: /home/biocbuild/bbs-3.17-bioc/R/bin/R CMD INSTALL UCell StartedAt: 2023-10-15 15:18:33 -0400 (Sun, 15 Oct 2023) EndedAt: 2023-10-15 15:18:54 -0400 (Sun, 15 Oct 2023) EllapsedTime: 20.9 seconds RetCode: 0 Status: OK