Package: UCell Version: 2.4.0 Command: /home/biocbuild/bbs-3.17-bioc/R/bin/R CMD build --keep-empty-dirs --no-resave-data UCell StartedAt: 2023-10-15 18:52:53 -0400 (Sun, 15 Oct 2023) EndedAt: 2023-10-15 18:58:09 -0400 (Sun, 15 Oct 2023) EllapsedTime: 316.5 seconds RetCode: 0 Status: OK PackageFile: UCell_2.4.0.tar.gz PackageFileSize: 2.742 MiB