Package: UCell Version: 2.4.0 Command: /Library/Frameworks/R.framework/Resources/bin/R CMD INSTALL UCell StartedAt: 2023-10-15 15:28:06 -0400 (Sun, 15 Oct 2023) EndedAt: 2023-10-15 15:29:16 -0400 (Sun, 15 Oct 2023) EllapsedTime: 70.0 seconds RetCode: 0 Status: OK