Package: UCell Version: 2.4.0 Command: /Library/Frameworks/R.framework/Resources/bin/R CMD check --install=check:UCell.install-out.txt --library=/Library/Frameworks/R.framework/Resources/library --no-vignettes --timings UCell_2.4.0.tar.gz StartedAt: 2023-10-16 08:21:29 -0400 (Mon, 16 Oct 2023) EndedAt: 2023-10-16 08:29:34 -0400 (Mon, 16 Oct 2023) EllapsedTime: 485.7 seconds RetCode: 0 Status: OK CheckDir: UCell.Rcheck Warnings: 0