Package: UCell Version: 2.4.0 Command: /Library/Frameworks/R.framework/Resources/bin/R CMD build --keep-empty-dirs --no-resave-data UCell StartedAt: 2023-10-15 22:01:31 -0400 (Sun, 15 Oct 2023) EndedAt: 2023-10-15 22:11:29 -0400 (Sun, 15 Oct 2023) EllapsedTime: 597.4 seconds RetCode: 0 Status: OK PackageFile: UCell_2.4.0.tar.gz PackageFileSize: 2.833 MiB