Package: TurboNorm Version: 1.48.0 Command: /home/biocbuild/bbs-3.17-bioc/R/bin/R CMD check --install=check:TurboNorm.install-out.txt --library=/home/biocbuild/bbs-3.17-bioc/R/site-library --timings TurboNorm_1.48.0.tar.gz StartedAt: 2023-10-16 01:56:52 -0400 (Mon, 16 Oct 2023) EndedAt: 2023-10-16 02:01:25 -0400 (Mon, 16 Oct 2023) EllapsedTime: 272.7 seconds RetCode: 1 Status: ERROR CheckDir: TurboNorm.Rcheck Warnings: NA