Package: Trendy Version: 1.22.0 Command: chmod a+r Trendy -R && F:\biocbuild\bbs-3.17-bioc\R\bin\R.exe CMD build --keep-empty-dirs --no-resave-data Trendy StartedAt: 2023-10-15 22:55:54 -0400 (Sun, 15 Oct 2023) EndedAt: 2023-10-15 22:57:55 -0400 (Sun, 15 Oct 2023) EllapsedTime: 120.7 seconds RetCode: 0 Status: OK PackageFile: Trendy_1.22.0.tar.gz PackageFileSize: 1.088 MiB