Package: Trendy Version: 1.22.0 Command: /home/biocbuild/bbs-3.17-bioc/R/bin/R CMD INSTALL Trendy StartedAt: 2023-10-15 15:28:45 -0400 (Sun, 15 Oct 2023) EndedAt: 2023-10-15 15:29:06 -0400 (Sun, 15 Oct 2023) EllapsedTime: 21.4 seconds RetCode: 0 Status: OK