Package: Trendy Version: 1.22.0 Command: /home/biocbuild/bbs-3.17-bioc/R/bin/R CMD build --keep-empty-dirs --no-resave-data Trendy StartedAt: 2023-10-15 18:51:18 -0400 (Sun, 15 Oct 2023) EndedAt: 2023-10-15 18:52:24 -0400 (Sun, 15 Oct 2023) EllapsedTime: 65.7 seconds RetCode: 0 Status: OK PackageFile: Trendy_1.22.0.tar.gz PackageFileSize: 1.086 MiB