Package: Trendy Version: 1.22.0 Command: /Library/Frameworks/R.framework/Resources/bin/R CMD INSTALL Trendy StartedAt: 2023-10-15 15:47:51 -0400 (Sun, 15 Oct 2023) EndedAt: 2023-10-15 15:49:02 -0400 (Sun, 15 Oct 2023) EllapsedTime: 71.1 seconds RetCode: 0 Status: OK