Package: Trendy Version: 1.22.0 Command: /Library/Frameworks/R.framework/Resources/bin/R CMD build --keep-empty-dirs --no-resave-data Trendy StartedAt: 2023-10-15 21:58:49 -0400 (Sun, 15 Oct 2023) EndedAt: 2023-10-15 22:01:56 -0400 (Sun, 15 Oct 2023) EllapsedTime: 186.5 seconds RetCode: 0 Status: OK PackageFile: Trendy_1.22.0.tar.gz PackageFileSize: 1.086 MiB