Package: TreeSummarizedExperiment Version: 2.8.0 Command: F:\biocbuild\bbs-3.17-bioc\R\bin\R.exe CMD check --no-multiarch --install=check:TreeSummarizedExperiment.install-out.txt --library=F:\biocbuild\bbs-3.17-bioc\R\library --no-vignettes --timings TreeSummarizedExperiment_2.8.0.tar.gz StartedAt: 2023-10-16 07:47:57 -0400 (Mon, 16 Oct 2023) EndedAt: 2023-10-16 07:53:00 -0400 (Mon, 16 Oct 2023) EllapsedTime: 302.3 seconds RetCode: 0 Status: OK CheckDir: TreeSummarizedExperiment.Rcheck Warnings: 0