Package: TreeSummarizedExperiment Version: 2.8.0 Command: /home/biocbuild/bbs-3.17-bioc/R/bin/R CMD check --install=check:TreeSummarizedExperiment.install-out.txt --library=/home/biocbuild/bbs-3.17-bioc/R/site-library --timings TreeSummarizedExperiment_2.8.0.tar.gz StartedAt: 2023-10-16 01:52:59 -0400 (Mon, 16 Oct 2023) EndedAt: 2023-10-16 01:59:19 -0400 (Mon, 16 Oct 2023) EllapsedTime: 379.8 seconds RetCode: 0 Status: OK CheckDir: TreeSummarizedExperiment.Rcheck Warnings: 0