Package: TreeAndLeaf Version: 1.12.0 Command: F:\biocbuild\bbs-3.17-bioc\R\bin\R.exe CMD INSTALL TreeAndLeaf StartedAt: 2023-10-15 16:16:46 -0400 (Sun, 15 Oct 2023) EndedAt: 2023-10-15 16:16:52 -0400 (Sun, 15 Oct 2023) EllapsedTime: 6.2 seconds RetCode: 0 Status: OK