Package: TreeAndLeaf Version: 1.12.0 Command: rm -rf TreeAndLeaf.buildbin-libdir && mkdir TreeAndLeaf.buildbin-libdir && F:\biocbuild\bbs-3.17-bioc\R\bin\R.exe CMD INSTALL --build --library=TreeAndLeaf.buildbin-libdir TreeAndLeaf_1.12.0.tar.gz StartedAt: 2023-10-16 09:40:31 -0400 (Mon, 16 Oct 2023) EndedAt: 2023-10-16 09:40:38 -0400 (Mon, 16 Oct 2023) EllapsedTime: 7.2 seconds RetCode: 0 Status: OK PackageFile: TreeAndLeaf_1.12.0.zip PackageFileSize: 3.133 MiB