Package: TreeAndLeaf Version: 1.12.0 Command: /home/biocbuild/bbs-3.17-bioc/R/bin/R CMD build --keep-empty-dirs --no-resave-data TreeAndLeaf StartedAt: 2023-10-15 18:51:07 -0400 (Sun, 15 Oct 2023) EndedAt: 2023-10-15 18:51:17 -0400 (Sun, 15 Oct 2023) EllapsedTime: 9.2 seconds RetCode: 0 Status: OK PackageFile: TreeAndLeaf_1.12.0.tar.gz PackageFileSize: 5.616 MiB