Package: TreeAndLeaf Version: 1.12.0 Command: /Library/Frameworks/R.framework/Resources/bin/R CMD build --keep-empty-dirs --no-resave-data TreeAndLeaf StartedAt: 2023-10-15 21:58:07 -0400 (Sun, 15 Oct 2023) EndedAt: 2023-10-15 21:58:30 -0400 (Sun, 15 Oct 2023) EllapsedTime: 23.0 seconds RetCode: 0 Status: OK PackageFile: TreeAndLeaf_1.12.0.tar.gz PackageFileSize: 5.639 MiB