Package: Travel Version: 1.8.0 Command: F:\biocbuild\bbs-3.17-bioc\R\bin\R.exe CMD INSTALL Travel StartedAt: 2023-10-15 15:50:06 -0400 (Sun, 15 Oct 2023) EndedAt: 2023-10-15 15:50:46 -0400 (Sun, 15 Oct 2023) EllapsedTime: 39.9 seconds RetCode: 1 Status: ERROR