Package: Travel Version: 1.7.0 Command: F:\biocbuild\bbs-3.17-bioc\R\bin\R.exe CMD check --no-multiarch --install=check:Travel.install-out.txt --library=F:\biocbuild\bbs-3.17-bioc\R\library --no-vignettes --timings Travel_1.7.0.tar.gz StartedAt: 2023-01-06 07:36:34 -0500 (Fri, 06 Jan 2023) EndedAt: 2023-01-06 07:38:11 -0500 (Fri, 06 Jan 2023) EllapsedTime: 96.6 seconds RetCode: 0 Status: OK CheckDir: Travel.Rcheck Warnings: 0